BEGIN:VCALENDAR
VERSION:2.0
PRODID:-//zoologisch botanische Exkursionen - ECPv6.14.2//NONSGML v1.0//EN
CALSCALE:GREGORIAN
METHOD:PUBLISH
X-ORIGINAL-URL:https://www.zoologie-graz.at/blog
X-WR-CALDESC:Veranstaltungen für zoologisch botanische Exkursionen
REFRESH-INTERVAL;VALUE=DURATION:PT1H
X-Robots-Tag:noindex
X-PUBLISHED-TTL:PT1H
BEGIN:VTIMEZONE
TZID:Europe/Vienna
BEGIN:DAYLIGHT
TZOFFSETFROM:+0100
TZOFFSETTO:+0200
TZNAME:CEST
DTSTART:20230326T010000
END:DAYLIGHT
BEGIN:STANDARD
TZOFFSETFROM:+0200
TZOFFSETTO:+0100
TZNAME:CET
DTSTART:20231029T010000
END:STANDARD
END:VTIMEZONE
BEGIN:VEVENT
DTSTART;VALUE=DATE:20230825
DTEND;VALUE=DATE:20230826
DTSTAMP:20260421T151520
CREATED:20230803T140519Z
LAST-MODIFIED:20230803T141302Z
UID:2045-1692921600-1693007999@www.zoologie-graz.at
SUMMARY:Johannesburg
DESCRIPTION:Ankunft in Johannesburg \n\nMietwagen abholen\nEinkaufen\nSachen aus dem Lager holen
URL:https://www.zoologie-graz.at/blog/event/johannesburg-3/
LOCATION:Johannesburg\, Johannesburg\, Johannesburg\, Südafrika
CATEGORIES:2023 Südafrika
END:VEVENT
BEGIN:VEVENT
DTSTART;VALUE=DATE:20230828
DTEND;VALUE=DATE:20230829
DTSTAMP:20260421T151520
CREATED:20230829T135620Z
LAST-MODIFIED:20230804T135307Z
UID:2051-1693180800-1693267199@www.zoologie-graz.at
SUMMARY:Krüger Nationalpark - Tamboti Rest Camp
DESCRIPTION:Wir haben den ganzen Tag Zeit für Safari. Der Weg führt uns im Krüger Nationalpark in Richtung Süden zum Tamboti Camp. Wir werden dort in fest aufgestellten Zelten übernachten. Auch heute wird wieder gemeinsam gekocht.
URL:https://www.zoologie-graz.at/blog/event/krueger-nationalpark-tamboti-rest-camp/
LOCATION:Krüger Nationalpark\, Krüger Nationalpark\, Südafrika
CATEGORIES:2023 Südafrika
END:VEVENT
BEGIN:VEVENT
DTSTART;VALUE=DATE:20230829
DTEND;VALUE=DATE:20230830
DTSTAMP:20260421T151520
CREATED:20230803T135924Z
LAST-MODIFIED:20230803T141038Z
UID:2053-1693267200-1693353599@www.zoologie-graz.at
SUMMARY:Krüger Nationalpark - Lower Sabie
DESCRIPTION:Der letzte Tag im Krüger Nationalpark. Es geht noch weiter in Richtung Süden zum Lower Sabie Rest Camp. Diese Gegend entlang des Sabie-Flusses ist dichter bewachsten als der Norden und ist bekannt für Sichtungen von Raubkatzen. Am Abend haben wir eine Nachtsafari gebucht. 
URL:https://www.zoologie-graz.at/blog/event/krueger-nationalpark-lower-sabie/
CATEGORIES:2023 Südafrika
END:VEVENT
BEGIN:VEVENT
DTSTART;VALUE=DATE:20230830
DTEND;VALUE=DATE:20230831
DTSTAMP:20260421T151520
CREATED:20230803T140328Z
LAST-MODIFIED:20230804T135225Z
UID:2055-1693353600-1693439999@www.zoologie-graz.at
SUMMARY:Fahrt durch Eswatini (Swasiland)
DESCRIPTION:Heute müssen wir früh unsere Zelte abbauen. Auf unseren Weg zum Tembe Nationalpark müssen wir durch Swasiland. Auch wenn die Distanz nicht groß ist\, wird die Fahrt mind. 6h in Anspruch nehmen. 
URL:https://www.zoologie-graz.at/blog/event/fahrt-durch-eswatini-swasiland/
CATEGORIES:2023 Südafrika
END:VEVENT
END:VCALENDAR