BEGIN:VCALENDAR
VERSION:2.0
PRODID:-//zoologisch botanische Exkursionen - ECPv6.14.2//NONSGML v1.0//EN
CALSCALE:GREGORIAN
METHOD:PUBLISH
X-WR-CALNAME:zoologisch botanische Exkursionen
X-ORIGINAL-URL:https://www.zoologie-graz.at/blog
X-WR-CALDESC:Veranstaltungen für zoologisch botanische Exkursionen
REFRESH-INTERVAL;VALUE=DURATION:PT1H
X-Robots-Tag:noindex
X-PUBLISHED-TTL:PT1H
BEGIN:VTIMEZONE
TZID:Europe/Vienna
BEGIN:DAYLIGHT
TZOFFSETFROM:+0100
TZOFFSETTO:+0200
TZNAME:CEST
DTSTART:20180325T010000
END:DAYLIGHT
BEGIN:STANDARD
TZOFFSETFROM:+0200
TZOFFSETTO:+0100
TZNAME:CET
DTSTART:20181028T010000
END:STANDARD
END:VTIMEZONE
BEGIN:VEVENT
DTSTART;TZID=Europe/Vienna:20180414T140000
DTEND;TZID=Europe/Vienna:20180414T170000
DTSTAMP:20260423T153256
CREATED:20180403T092619Z
LAST-MODIFIED:20180403T092619Z
UID:728-1523714400-1523725200@www.zoologie-graz.at
SUMMARY:Namibia 2018 - Seminar und Vorbesprechung
DESCRIPTION:Helmut Kaiser hält einen kurzen Vortrag zu den Biomen im südlichen Afrika. Im Anschluss werden die Themen für die Referate und die Termine für die Präsentationen fixiert.\nZum Schluss werden haben wir noch oranisatorische Themen zu besprechen. \n 
URL:https://www.zoologie-graz.at/blog/event/namibia-2018-seminar-und-vorbesprechung/
LOCATION:Zoologie Bibliothek\, Universitätsplatz 2\, Graz\, 8010\, Österreich
ATTACH;FMTTYPE=image/jpeg:https://www.zoologie-graz.at/blog/wp-content/uploads/2018/04/vegetation-südafrika.jpg
ORGANIZER;CN="2018 Namibia":MAILTO:exkursion@zoologie-graz.at
END:VEVENT
END:VCALENDAR