BEGIN:VCALENDAR
VERSION:2.0
PRODID:-//zoologisch botanische Exkursionen - ECPv6.14.2//NONSGML v1.0//EN
CALSCALE:GREGORIAN
METHOD:PUBLISH
X-WR-CALNAME:zoologisch botanische Exkursionen
X-ORIGINAL-URL:https://www.zoologie-graz.at/blog
X-WR-CALDESC:Veranstaltungen für zoologisch botanische Exkursionen
REFRESH-INTERVAL;VALUE=DURATION:PT1H
X-Robots-Tag:noindex
X-PUBLISHED-TTL:PT1H
BEGIN:VTIMEZONE
TZID:Europe/Vienna
BEGIN:DAYLIGHT
TZOFFSETFROM:+0100
TZOFFSETTO:+0200
TZNAME:CEST
DTSTART:20180325T010000
END:DAYLIGHT
BEGIN:STANDARD
TZOFFSETFROM:+0200
TZOFFSETTO:+0100
TZNAME:CET
DTSTART:20181028T010000
END:STANDARD
END:VTIMEZONE
BEGIN:VEVENT
DTSTART;TZID=Europe/Vienna:20180302T101500
DTEND;TZID=Europe/Vienna:20180302T120000
DTSTAMP:20260423T164754
CREATED:20180301T162417Z
LAST-MODIFIED:20180301T162417Z
UID:722-1519985700-1519992000@www.zoologie-graz.at
SUMMARY:Vorbesprechung: LV "Biome des südlichen Afrika"
DESCRIPTION:Als Begleitung zur Exkursion nach Namibia bietet Helmut Kaiser eine Lehrveranstaltung „Biome des südlichen Afrika“ an: \nDie verschiedenen Biome und Ökosysteme des südlichen Afrikas mit Schwerpunkt auf Namibia\, Botswana und Südafrika: Wüsten und Halbwüsten\, Salzpfannen\, Trockensavannen\, Die Schwemmlandschaften des Okavangodeltas\, Mopane- und Miombowald\, die Kapregion. Kennenlernen spezifischer Pflanzengesellschaften und deren entsprechender Tierwelt. Gefährdung\, Natur und Naturschutz.
URL:https://www.zoologie-graz.at/blog/event/biome-des-suedlichen-afrika/
LOCATION:Zoologie Bibliothek\, Universitätsplatz 2\, Graz\, 8010\, Österreich
ORGANIZER;CN="2018 Namibia":MAILTO:exkursion@zoologie-graz.at
END:VEVENT
END:VCALENDAR